BEGIN:VCALENDAR
PRODID:-//PropertySuite//EN
VERSION:2.0
CALSCALE:GREGORIAN
METHOD:PUBLISH
BEGIN:VEVENT
CREATED:20191221T004333Z
DTSTAMP:20191209T000000Z
STATUS:CONFIRMED
CLASS:PUBLIC
UID:JP1522-1-1576889013
SEQUENCE:0
SUMMARY:Just Paterson Open Home - Ref:JP1522 - 350 Main Road, Tawa
DESCRIPTION:Please contact Nick Mahan (Mobile 027 478 1188) for updates and further information.\nClick to view property details: http://www.justpaterson.co.nz/JP1522/
LOCATION:350 Main Road, Tawa
DTSTART:20191222T103000
DTEND:20191222T110000
TRANSP:OPAQUE
END:VEVENT
END:VCALENDAR
