BEGIN:VCALENDAR
PRODID:-//PropertySuite//EN
VERSION:2.0
CALSCALE:GREGORIAN
METHOD:PUBLISH
BEGIN:VEVENT
CREATED:20191221T004327Z
DTSTAMP:20191209T000000Z
STATUS:CONFIRMED
CLASS:PUBLIC
UID:JP1521-1-1576889007
SEQUENCE:0
SUMMARY:Just Paterson Open Home - Ref:JP1521 - 60 Peterhouse Street, Tawa
DESCRIPTION:Please contact Nick Mahan (Mobile 027 478 1188) for updates and further information.\nClick to view property details: http://www.justpaterson.co.nz/JP1521/
LOCATION:60 Peterhouse Street, Tawa
DTSTART:20191222T111500
DTEND:20191222T114500
TRANSP:OPAQUE
END:VEVENT
END:VCALENDAR
